BEGIN:VCALENDAR
VERSION:2.0
PRODID:-//Proyecto HUCI - ECPv6.8.3//NONSGML v1.0//EN
CALSCALE:GREGORIAN
METHOD:PUBLISH
X-WR-CALNAME:Proyecto HUCI
X-ORIGINAL-URL:https://proyectohuci.com
X-WR-CALDESC:Eventos para Proyecto HUCI
REFRESH-INTERVAL;VALUE=DURATION:PT1H
X-Robots-Tag:noindex
X-PUBLISHED-TTL:PT1H
BEGIN:VTIMEZONE
TZID:UTC
BEGIN:STANDARD
TZOFFSETFROM:+0000
TZOFFSETTO:+0000
TZNAME:UTC
DTSTART:20210101T000000
END:STANDARD
END:VTIMEZONE
BEGIN:VEVENT
DTSTART;TZID=UTC:20210304T090000
DTEND;TZID=UTC:20210304T163000
DTSTAMP:20260425T040112
CREATED:20210303T120449Z
LAST-MODIFIED:20210303T120449Z
UID:48022-1614848400-1614875400@proyectohuci.com
SUMMARY:VI Jornadas Universidad y Servicio
DESCRIPTION:El próximo 4 de Marzo se van a celebrar las VI Jornadas Universidad y Servicio de la Facultad de Enfermería\, Fisioterapia y Podología de la Universidad Complutense de Madrid. \nAquí tienes el programa completo: https://enfermeria.ucm.es/jornadas-universidad-servicio \nProyecto HU-CI tendrá una participación activa con dos actos: \n\nConferencia 9.30 a 10.30: Humanización de la Asistencia Sanitaria\, por Ángela Alonso\nTaller 10.30 a 12.30 de Musicoterapia en la Atención Sanitaria\, por Javier Alcántara.\n\nPuedes seguir el evento en la parte online en el siguiente enlace: https://youtu.be/rNpblac5XIE. \n¡¡¡Seguimos con la #humanización!!!
URL:https://proyectohuci.com/evento/vi-jornadas-universidad-y-servicio/
CATEGORIES:Jornadas
ATTACH;FMTTYPE=image/jpeg:https://proyectohuci.com/wp-content/uploads/2021/03/cartel-sociosanitarias.jpg
END:VEVENT
END:VCALENDAR